BEGIN:VCALENDAR
VERSION:2.0
PRODID:Events Booking
BEGIN:VEVENT
UID:69e81f977e90b
SUMMARY:GDT HMF Workshop
DESCRIPTION:Virtual HMF workshop for GDT Solution Architects
LOCATION:Virtual
DTSTART:20250724T060000Z
DTEND:20250725T045500Z
DTSTAMP:20250715T161109Z
ORGANIZER;CN=Cisco Security Workshops:MAILTO:no-reply@ciscosecurityworkshop
 .com
GEO:25;-80.226529
X-APPLE-STRUCTURED-LOCATION;VALUE=URI;X-ADDRESS=Virtual;X-APPLE-RADIUS=72;X
 -TITLE=Virtual:25;-80.226529
END:VEVENT
END:VCALENDAR