BEGIN:VCALENDAR
VERSION:2.0
PRODID:Events Booking
BEGIN:VEVENT
UID:69ea82692fa8b
SUMMARY:Grandmetric XDR 12/06
DESCRIPTION:Rapid Incident Response with Cisco Extended Detection &amp\; Re
 sponse (XDR)
 
 W czasie kryzysu liczy się każdy ruch na klawiaturze\,
  a brak decyzji może kosztować Twoją organizację miliony. Co odróżni
 a ekspertów ds. bezpieczeństwa od potencjalnych zagrożeń dla firmy? Pl
 an – i praktyka. Dołącz do warsztatu Szybkiego Reagowania na Incydenty
  z Cisco XDR\, aby rozwinąć swoje umiejętności i przetestować swoje z
 dolności.
 Nie przegap okazji\, by: 
 🎯 Rozwinąć swoje umiejętn
 ości: Naucz się\, jak profesjonalnie określać zakres\, izolować i eli
 minować zagrożenia. Wznieś swoje kompetencje w zakresie analizy śledcz
 ej danych i reagowania na incydenty oraz threat huntingu na wyższy poziom
  – szybciej\, sprawniej i z większą pewnością – dzięki praktyczne
 mu laboratorium online.
 🌐 Sprawdzić swoje możliwości: Przetestuj s
 woje umiejętności\, m.in. poprzez:
 
 
 Identyfikowanie wzorców i ko
 relacji w aktywności zagrożeń\, z analizą źródła i łańcucha ataku
 
 
 
 Wykorzystanie uczenia maszynowego do priorytetyzacji incydentów 
 w oparciu o ryzyko i wpływ
 
 
 Zwiększenie produktywności dzięki z
 automatyzowanym i prowadzonym krok po kroku działaniom naprawczym
 
 

  Niezależnie od tego\, czy jesteś doświadczonym specjalistą ds. cyberb
 ezpieczeństwa\, czy dopiero zaczynasz – ten warsztat to połączenie wi
 edzy\, emocji i angażującej formy. Wykorzystaj szansę\, rozwijaj kompet
 encje i nie pozwól\, aby jakikolwiek incydent pozostał niezauważony. Za
 rezerwuj swoje miejsce już teraz i wyjdź z gotowym planem działania dla
  swojej organizacji. 
 Uwaga:~ Zalecamy korzystanie z drugiego monitora
  lub ekranu podczas warsztatu.~ Przed rozpoczęciem zamknij niepotrzebne a
 plikacje i wyłącz powiadomienia.~ Potrzeba około 4 godzin\, aby w pełn
 i ukończyć warsztat Rapid Incident Response z Cisco XDR.
 Do zobaczenia
 !
LOCATION:Metalowa\, Poznan\, 60-118 Greater Poland Voivodeship\, Poland
DTSTART:20250612T080000Z
DTEND:20250612T170000Z
DTSTAMP:20250516T164801Z
ORGANIZER;CN=Cisco Security Workshops:MAILTO:no-reply@ciscosecurityworkshop
 .com
GEO:52.380907;16.886521
X-APPLE-STRUCTURED-LOCATION;VALUE=URI;X-ADDRESS=Metalowa\, Poznan\, 60-118 
 Greater Poland Voivodeship\, Poland;X-APPLE-RADIUS=72;X-TITLE=Poznan Grand
 metric:52.380907;16.886521
END:VEVENT
END:VCALENDAR