BEGIN:VCALENDAR
VERSION:2.0
PRODID:Events Booking
BEGIN:VEVENT
UID:69ea13333eab8
SUMMARY:Greg And Dave Purple Team Run Through
DESCRIPTION:Purple Team run through for Greg and Dave. Not a public offerin
 g. 
LOCATION:433 W. Van Buren Street\, Ste 702 7th Floor Chicago\, Illinois 606
 07 United States
DTSTART:20251106T060000Z
DTEND:20251107T055500Z
DTSTAMP:20251104T170228Z
ORGANIZER;CN=Cisco Security Workshops:MAILTO:no-reply@ciscosecurityworkshop
 .com
END:VEVENT
END:VCALENDAR