BEGIN:VCALENDAR
VERSION:2.0
PRODID:Events Booking
BEGIN:VEVENT
UID:69ea4705c3221
SUMMARY:Gyozo
DESCRIPTION:hmf
LOCATION:Budapest
DTSTART:20260414T084500Z
DTEND:20260414T215500Z
DTSTAMP:20260414T084123Z
ORGANIZER;CN=Cisco Security Workshops:MAILTO:no-reply@ciscosecurityworkshop
 .com
END:VEVENT
END:VCALENDAR