BEGIN:VCALENDAR
VERSION:2.0
PRODID:Events Booking
BEGIN:VEVENT
UID:69e85fa7aaf91
SUMMARY:Heros Hybrid Mesh
DESCRIPTION:
LOCATION:20 Rue Washington\, Paris\, 75008 Ile-de-France\, France
DTSTART:20250926T120000Z
DTEND:20250926T215500Z
DTSTAMP:20250926T153137Z
ORGANIZER;CN=Cisco Security Workshops:MAILTO:no-reply@ciscosecurityworkshop
 .com
GEO:48.872954;2.302832
X-APPLE-STRUCTURED-LOCATION;VALUE=URI;X-ADDRESS=20 Rue Washington\, Paris\,
  75008 Ile-de-France\, France;X-APPLE-RADIUS=72;X-TITLE=Cisco France:48.87
 2954;2.302832
END:VEVENT
END:VCALENDAR