BEGIN:VCALENDAR
VERSION:2.0
PRODID:Events Booking
BEGIN:VEVENT
UID:69ea814273299
SUMMARY:HKT - HMFW enablement - HK
DESCRIPTION:
LOCATION:CCW Tower
DTSTART:20260309T080000Z
DTEND:20260309T100000Z
DTSTAMP:20260303T024157Z
ORGANIZER;CN=Cisco Security Workshops:MAILTO:no-reply@ciscosecurityworkshop
 .com
END:VEVENT
END:VCALENDAR