BEGIN:VCALENDAR
VERSION:2.0
PRODID:Events Booking
BEGIN:VEVENT
UID:69ea470067d22
SUMMARY:HMF
DESCRIPTION:SE LAB
DTSTART:20260419T220000Z
DTEND:20260420T070000Z
DTSTAMP:20260419T235009Z
ORGANIZER;CN=Cisco Security Workshops:MAILTO:no-reply@ciscosecurityworkshop
 .com
END:VEVENT
END:VCALENDAR