BEGIN:VCALENDAR
VERSION:2.0
PRODID:Events Booking
BEGIN:VEVENT
UID:69ea4bbb65733
SUMMARY:HMF Amsterdam
DESCRIPTION:
LOCATION:Netherlands
DTSTART:20260313T090000Z
DTEND:20260313T170000Z
DTSTAMP:20260313T081823Z
ORGANIZER;CN=Cisco Security Workshops:MAILTO:no-reply@ciscosecurityworkshop
 .com
GEO:52.243498;5.634323
X-APPLE-STRUCTURED-LOCATION;VALUE=URI;X-ADDRESS=Netherlands;X-APPLE-RADIUS=
 72;X-TITLE=Netherlands:52.243498;5.634323
END:VEVENT
END:VCALENDAR