BEGIN:VCALENDAR
VERSION:2.0
PRODID:Events Booking
BEGIN:VEVENT
UID:69e823b0a9a42
SUMMARY:HMF_ATL_17April25
DESCRIPTION:Join us in-person for a comprehensive instructor-led event desi
 gned
 to deliver an immersive\, hands-on experience. Dive deep into the

  game-changing features of this cutting-edge firewall technology
 through
  practical labs.
 § We do recommend all participants watch the Tech Talk
  series on
 Cisco’s Hybrid Mesh Firewall before attending. Check out ei
 ther of
 the live Tech Talk deliveries or watch the recording.
 § This 
 workshop is all about building expertise through hands-on labs
 and techn
 ical training. You'll get practical experience configuring and
 deploying
  the FTD system end-to-end to fosterconfidence and
 technical prowess. Ad
 ditionally\, you'll have access to a Breach and
 Attack Simulation soluti
 on\, allowing you to test\, validate\, and finetune
 optimal policy confi
 gurations to ensure your environment is
 secure and running with optimal 
 efficiently. This self-contained virtual
 lab will provide hands on time 
 with Cisco Security Cloud Control
 managing firewalls in Cisco dCloud.
 
 § Key topics of this single day in-person event include:
 • Getting St
 arted: Setting up and provisioning your environment
 with Cisco Security 
 Cloud Control
 • Threat Overview: Assessing risk using Caldera for real
 -world
 insights
 • SD-WAN: Exploring Software Defined Networking for 
 optimized
 performance
 • AI Integration: Unlocking the power of AI As
 sistant &amp\; AIOps for
 enhanced security
 • Segmentation: Deep dive
  into firewall and workload integration
 for advanced network security fo
 cusing on Cisco Secure
 Workload integrations with Cisco Secure Firewall.
LOCATION:756 W Peachtree St NW Atlanta\, Georgia 30308 United States
DTSTART:20250417T090000Z
DTEND:20250425T230000Z
DTSTAMP:20250409T183718Z
ORGANIZER;CN=Cisco Security Workshops:MAILTO:no-reply@ciscosecurityworkshop
 .com
GEO:33.775314;-84.387418
X-APPLE-STRUCTURED-LOCATION;VALUE=URI;X-ADDRESS=756 W Peachtree St NW Atlan
 ta\, Georgia 30308 United States;X-APPLE-RADIUS=72;X-TITLE=Cisco Office At
 lanta:33.775314;-84.387418
END:VEVENT
END:VCALENDAR