BEGIN:VCALENDAR
VERSION:2.0
PRODID:Events Booking
BEGIN:VEVENT
UID:69e7eced740e3
SUMMARY:HMF_AustinSHI_15May25
DESCRIPTION:
LOCATION:11501 Burnet Rd building 906 suite 300\, Austin\, TX 78758
DTSTART:20250515T080000Z
DTEND:20250516T200000Z
DTSTAMP:20250506T183323Z
ORGANIZER;CN=Cisco Security Workshops:MAILTO:no-reply@ciscosecurityworkshop
 .com
END:VEVENT
END:VCALENDAR