BEGIN:VCALENDAR
VERSION:2.0
PRODID:Events Booking
BEGIN:VEVENT
UID:69ea470500c75
SUMMARY:HMF Berlin Comstor
DESCRIPTION:
DTSTART:20260421T100000Z
DTEND:20260421T170000Z
DTSTAMP:20260323T092542Z
ORGANIZER;CN=Cisco Security Workshops:MAILTO:no-reply@ciscosecurityworkshop
 .com
END:VEVENT
END:VCALENDAR