BEGIN:VCALENDAR
VERSION:2.0
PRODID:Events Booking
BEGIN:VEVENT
UID:69e822aabcc8f
SUMMARY:HMF_Boulder_24Jun25
DESCRIPTION:
LOCATION:3400 Valmont Road #200\, Boulder\, 80309 Colorado\, United States
DTSTART:20250624T120000Z
DTEND:20250625T000000Z
DTSTAMP:20250527T144035Z
ORGANIZER;CN=Cisco Security Workshops:MAILTO:no-reply@ciscosecurityworkshop
 .com
GEO:40.029283;-105.249075
X-APPLE-STRUCTURED-LOCATION;VALUE=URI;X-ADDRESS=3400 Valmont Road #200\, Bo
 ulder\, 80309 Colorado\, United States;X-APPLE-RADIUS=72;X-TITLE=Cisco Bou
 lder:40.029283;-105.249075
END:VEVENT
END:VCALENDAR