BEGIN:VCALENDAR
VERSION:2.0
PRODID:Events Booking
BEGIN:VEVENT
UID:69e8236b993ce
SUMMARY:HMF_Boxborough_22Jul25
DESCRIPTION:
LOCATION:500 Beaver Brook Rd
DTSTART:20250723T120000Z
DTEND:20250724T035500Z
DTSTAMP:20250710T173805Z
ORGANIZER;CN=Cisco Security Workshops:MAILTO:no-reply@ciscosecurityworkshop
 .com
END:VEVENT
END:VCALENDAR