BEGIN:VCALENDAR
VERSION:2.0
PRODID:Events Booking
BEGIN:VEVENT
UID:69e7ec39ab808
SUMMARY:HMF_Calgary_13May25
DESCRIPTION:
LOCATION:150 13 Ave SW #200\, Calgary\, AB T2R 0V4\, Canada
DTSTART:20250513T215000Z
DTEND:20250513T230000Z
DTSTAMP:20250513T034209Z
ORGANIZER;CN=Cisco Security Workshops:MAILTO:no-reply@ciscosecurityworkshop
 .com
GEO:51.040658;-114.065407
X-APPLE-STRUCTURED-LOCATION;VALUE=URI;X-ADDRESS=150 13 Ave SW #200\, Calgar
 y\, AB T2R 0V4\, Canada;X-APPLE-RADIUS=72;X-TITLE=Calgary:51.040658;-114.0
 65407
END:VEVENT
END:VCALENDAR