BEGIN:VCALENDAR
VERSION:2.0
PRODID:Events Booking
BEGIN:VEVENT
UID:69e822c99dc86
SUMMARY:HMF_Chicago_17June25
DESCRIPTION:
LOCATION:433 W. Van Buren Street\, Ste 702 7th Floor Chicago\, Illinois 606
 07 United States
DTSTART:20250617T130000Z
DTEND:20250617T230000Z
DTSTAMP:20250616T175007Z
ORGANIZER;CN=Cisco Security Workshops:MAILTO:no-reply@ciscosecurityworkshop
 .com
END:VEVENT
END:VCALENDAR