BEGIN:VCALENDAR
VERSION:2.0
PRODID:Events Booking
BEGIN:VEVENT
UID:69e81f9989193
SUMMARY:HMF Firewall Lab France
DESCRIPTION:
LOCATION:Rue Washington\, Paris\, 75008 Ile-de-France\, France
DTSTART:20251014T070000Z
DTEND:20251014T170000Z
DTSTAMP:20251010T062527Z
ORGANIZER;CN=Cisco Security Workshops:MAILTO:no-reply@ciscosecurityworkshop
 .com
GEO:48.872954;2.302832
X-APPLE-STRUCTURED-LOCATION;VALUE=URI;X-ADDRESS=Rue Washington\, Paris\, 75
 008 Ile-de-France\, France;X-APPLE-RADIUS=72;X-TITLE=Paris\, France:48.872
 954;2.302832
END:VEVENT
END:VCALENDAR