BEGIN:VCALENDAR
VERSION:2.0
PRODID:Events Booking
BEGIN:VEVENT
UID:69e8210868c08
SUMMARY:HMF_HONOLULU_25JUN25
DESCRIPTION:
LOCATION:643 Ilalo St\, Honolulu\, HI 96813
DTSTART:20250625T190000Z
DTEND:20250626T020000Z
DTSTAMP:20250618T183210Z
ORGANIZER;CN=Cisco Security Workshops:MAILTO:no-reply@ciscosecurityworkshop
 .com
GEO:21.297198;-157.864324
X-APPLE-STRUCTURED-LOCATION;VALUE=URI;X-ADDRESS=643 Ilalo St\, Honolulu\, H
 I 96813;X-APPLE-RADIUS=72;X-TITLE=Entrepreneurs Sandbox:21.297198;-157.864
 324
END:VEVENT
END:VCALENDAR