BEGIN:VCALENDAR
VERSION:2.0
PRODID:Events Booking
BEGIN:VEVENT
UID:69ea470583974
SUMMARY:HMF_HU
DESCRIPTION:
LOCATION:Budapest
DTSTART:20260413T070000Z
DTEND:20260413T210000Z
DTSTAMP:20260330T110358Z
ORGANIZER;CN=Cisco Security Workshops:MAILTO:no-reply@ciscosecurityworkshop
 .com
END:VEVENT
END:VCALENDAR