BEGIN:VCALENDAR
VERSION:2.0
PRODID:Events Booking
BEGIN:VEVENT
UID:69e81f60a59d4
SUMMARY:HMF Lab test
DESCRIPTION:
DTSTART:20250627T151000Z
DTEND:20250627T230000Z
DTSTAMP:20250627T130254Z
ORGANIZER;CN=Cisco Security Workshops:MAILTO:no-reply@ciscosecurityworkshop
 .com
END:VEVENT
END:VCALENDAR