BEGIN:VCALENDAR
VERSION:2.0
PRODID:Events Booking
BEGIN:VEVENT
UID:69ea0f946d11c
SUMMARY:HMF Meteor 17th Dec
DESCRIPTION:
LOCATION:Digital City\, Riyadh
DTSTART:20251217T070000Z
DTEND:20251217T205500Z
DTSTAMP:20251130T070448Z
ORGANIZER;CN=Cisco Security Workshops:MAILTO:no-reply@ciscosecurityworkshop
 .com
GEO:24.7404;46.6354
X-APPLE-STRUCTURED-LOCATION;VALUE=URI;X-ADDRESS=Digital City\, Riyadh;X-APP
 LE-RADIUS=72;X-TITLE=Cisco Office Riyadh:24.7404;46.6354
END:VEVENT
END:VCALENDAR