BEGIN:VCALENDAR
VERSION:2.0
PRODID:Events Booking
BEGIN:VEVENT
UID:69ea4968f01e7
SUMMARY:HMF-Meteor-BLA
DESCRIPTION:V tomto labu budete mít možnost pracovat v simulovaném proje
 ktu modernizace firewallů s názvem „Meteor“\, abyste nakonfigurovali
  a nasadili nové řešení Hybrid-Mesh Firewall.
 Projdete fázemi:
 F
 áze 1: Segmentace sítě založená na zónách a DC Edge: Přihlaste se 
 do Cisco Security Cloud Control\, zaregistrujte (onboardujte) fyzické fir
 ewally\, vytvořte pravidla pro identifikaci aplikací\, zjednodušte kone
 ktivitu poboček a nakonfigurujte směrování založené na pravidlech (P
 olicy Based Routing).
 Fáze 2: Cloud Edge: Přihlaste se do Cisco Securi
 ty Cloud Control\, povolte viditelnost cloudu\, shromažďujte protokoly o
  DNS tocích (DNS flow logs)\, spravujte sdílené objekty a nastavte tago
 vání.
 Fáze 3: Makro/mikro segmentace: Přihlaste se do Cisco Security
  Cloud Control a nakonfigurujte pravidla pro ochranu aplikačních zátě
 ží (workloadů).
 Pro přístup na workshop použijte prosím v aktuál
 ním dni tento odkaz (pokud bude požadován enrollment klíč\, tak ten j
 e: HMF_BLA_0520):
  
LOCATION:Pribinova\, Bratislava\, 811 09 Region of Bratislava\, Slovakia
DTSTART:20260520T063000Z
DTEND:20260520T160000Z
DTSTAMP:20260305T144236Z
ORGANIZER;CN=Cisco Security Workshops:MAILTO:no-reply@ciscosecurityworkshop
 .com
GEO:48.139779;17.127156
X-APPLE-STRUCTURED-LOCATION;VALUE=URI;X-ADDRESS=Pribinova\, Bratislava\, 81
 1 09 Region of Bratislava\, Slovakia;X-APPLE-RADIUS=72;X-TITLE=Cisco offic
 e Bratislava:48.139779;17.127156
END:VEVENT
END:VCALENDAR