BEGIN:VCALENDAR
VERSION:2.0
PRODID:Events Booking
BEGIN:VEVENT
UID:69ea0f3cc22eb
SUMMARY:HMF-Meteor-PRG
DESCRIPTION:V tomto labu budete mít možnost pracovat v simulovaném proje
 ktu modernizace firewallů s názvem „Meteor“\, abyste nakonfigurovali
  a nasadili nové řešení Hybrid-Mesh Firewall.
 Projdete fázemi:
 F
 áze 1: Segmentace sítě založená na zónách a DC Edge: Přihlaste se 
 do Cisco Security Cloud Control\, zaregistrujte (onboardujte) fyzické fir
 ewally\, vytvořte pravidla pro identifikaci aplikací\, zjednodušte kone
 ktivitu poboček a nakonfigurujte směrování založené na pravidlech (P
 olicy Based Routing).
 Fáze 2: Cloud Edge: Přihlaste se do Cisco Securi
 ty Cloud Control\, povolte viditelnost cloudu\, shromažďujte protokoly o
  DNS tocích (DNS flow logs)\, spravujte sdílené objekty a nastavte tago
 vání.
 Fáze 3: Makro/mikro segmentace: Přihlaste se do Cisco Security
  Cloud Control a nakonfigurujte pravidla pro ochranu aplikačních zátě
 ží (workloadů).
 Pro přístup na workshop použijte prosím v aktuál
 ním dni tento odkaz (Pro přístup na workshop použijte prosím v aktuá
 lním dni tento odkaz (pokud bude požadován enrollment klíč\, tak ten 
 je: HMF_PRG_0430):
  
LOCATION:Pujmanové\, Prague\, 14000 Prague\, Czechia
DTSTART:20260430T063000Z
DTEND:20260430T160000Z
DTSTAMP:20260305T144231Z
ORGANIZER;CN=Cisco Security Workshops:MAILTO:no-reply@ciscosecurityworkshop
 .com
GEO:50.049898;14.435273
X-APPLE-STRUCTURED-LOCATION;VALUE=URI;X-ADDRESS=Pujmanové\, Prague\, 14000
  Prague\, Czechia;X-APPLE-RADIUS=72;X-TITLE=Cisco Office Prague:50.049898;
 14.435273
END:VEVENT
END:VCALENDAR