BEGIN:VCALENDAR
VERSION:2.0
PRODID:Events Booking
BEGIN:VEVENT
UID:69e85ed6bebb4
SUMMARY:Fight SImulator New York
DESCRIPTION:Location: Local Presido OfficeTime: 12:00 – 4:00 p.m. ET (Lun
 ch will be provided)
 Join the Cisco Secure Firewall Test Drive\, an inst
 ructor-led 4-hour security course\, allowing you to gain firsthand experie
 nce with Cisco firewalls\, and discover the new techniques of attackers th
 at have changed the network security needs.    The objective of this
  4-hour event is to help you to understand and evaluate the Cisco Secure F
 irewall solutions by:    
 1. Digging deeper into Cisco Secure Firew
 all platform options\, use cases and best practices.  2. Learning the co
 re concepts of policy design via industry-leading protections including Sn
 ort 3 technology  3. Evaluating the platform with hands-on labs includin
 g integrations with Cisco Security Analytics and Logging\, and public/priv
 ate cloud platforms.  
 The Cisco Secure Firewall Test Drive workshop w
 ill explore:  
 1. The basics of Cisco Secure Firewall  2. Effective 
 Segmentation with Access Control Policies 3. Device management and loggin
 g  4. Exploit Protection and advance security capabilities  
 Labs 
 include:  
 1. Migration to Cisco Secure Firewall  2. Access control 
 policy design  3. Integration with Security Analytics and Logging  4. 
 Intrusion policy with Snort 3  5. Understanding dynamic objects and adva
 nced integration  
 Optional: Join us for a happy hour to continue the 
 discussion and network with Presidio &amp\; Cisco Security experts.
  

   
LOCATION:Penn Plaza\, New York\, 10119 New York\, United States
DTSTART:20260120T050000Z
DTEND:20260120T200000Z
DTSTAMP:20251222T190709Z
ORGANIZER;CN=Cisco Security Workshops:MAILTO:no-reply@ciscosecurityworkshop
 .com
GEO:40.751099;-73.991972
X-APPLE-STRUCTURED-LOCATION;VALUE=URI;X-ADDRESS=Penn Plaza\, New York\, 101
 19 New York\, United States;X-APPLE-RADIUS=72;X-TITLE=Presidio:40.751099;-
 73.991972
END:VEVENT
END:VCALENDAR