BEGIN:VCALENDAR
VERSION:2.0
PRODID:Events Booking
BEGIN:VEVENT
UID:69e822c919aec
SUMMARY:HMF_NYC_14May25
DESCRIPTION:
LOCATION:MGR Film City Road\,Kanagam\,Tharamani\, Chennai\, 600113 Tamil Na
 du\, India
DTSTART:20250513T180000Z
DTEND:20250515T170000Z
DTSTAMP:20250502T171033Z
ORGANIZER;CN=Cisco Security Workshops:MAILTO:no-reply@ciscosecurityworkshop
 .com
GEO:12.991942;80.247021
X-APPLE-STRUCTURED-LOCATION;VALUE=URI;X-ADDRESS=MGR Film City Road\,Kanagam
 \,Tharamani\, Chennai\, 600113 Tamil Nadu\, India;X-APPLE-RADIUS=72;X-TITL
 E=Cisco Systems :12.991942;80.247021
END:VEVENT
END:VCALENDAR