BEGIN:VCALENDAR
VERSION:2.0
PRODID:Events Booking
BEGIN:VEVENT
UID:69e860e150abc
SUMMARY:HMF_NYC_Woburn_24July
DESCRIPTION:
LOCATION:Penn Plaza\, New York\, 10119 New York\, United States
DTSTART:20250724T050000Z
DTEND:20250725T010000Z
DTSTAMP:20250616T153858Z
ORGANIZER;CN=Cisco Security Workshops:MAILTO:no-reply@ciscosecurityworkshop
 .com
GEO:40.751099;-73.991972
X-APPLE-STRUCTURED-LOCATION;VALUE=URI;X-ADDRESS=Penn Plaza\, New York\, 101
 19 New York\, United States;X-APPLE-RADIUS=72;X-TITLE=Presidio:40.751099;-
 73.991972
END:VEVENT
END:VCALENDAR