BEGIN:VCALENDAR
VERSION:2.0
PRODID:Events Booking
BEGIN:VEVENT
UID:69e8224bd2734
SUMMARY:HMF_Optiv_13May25
DESCRIPTION:
LOCATION:15th Street\, Denver\, 80202 Colorado\, United States
DTSTART:20250513T070000Z
DTEND:20250513T180000Z
DTSTAMP:20250424T213349Z
ORGANIZER;CN=Cisco Security Workshops:MAILTO:no-reply@ciscosecurityworkshop
 .com
GEO:39.747028;-104.997609
X-APPLE-STRUCTURED-LOCATION;VALUE=URI;X-ADDRESS=15th Street\, Denver\, 8020
 2 Colorado\, United States;X-APPLE-RADIUS=72;X-TITLE=Optiv HQ:39.747028;-1
 04.997609
END:VEVENT
END:VCALENDAR