BEGIN:VCALENDAR
VERSION:2.0
PRODID:Events Booking
BEGIN:VEVENT
UID:69ea4893c5084
SUMMARY:HMF Partner Workshop
DESCRIPTION:
LOCATION:Kyiv\, Ukraine
DTSTART:20260115T070000Z
DTEND:20260115T200000Z
DTSTAMP:20260107T081602Z
ORGANIZER;CN=Cisco Security Workshops:MAILTO:no-reply@ciscosecurityworkshop
 .com
GEO:50.453518;30.516066
X-APPLE-STRUCTURED-LOCATION;VALUE=URI;X-ADDRESS=Kyiv\, Ukraine;X-APPLE-RADI
 US=72;X-TITLE=Kyiv:50.453518;30.516066
END:VEVENT
END:VCALENDAR