BEGIN:VCALENDAR
VERSION:2.0
PRODID:Events Booking
BEGIN:VEVENT
UID:69ea49465f6aa
SUMMARY:HMF Partner Workshop Kyiv
DESCRIPTION:
LOCATION:Kyiv\, Ukraine
DTSTART:20251113T070000Z
DTEND:20251113T160000Z
DTSTAMP:20251105T123813Z
ORGANIZER;CN=Cisco Security Workshops:MAILTO:no-reply@ciscosecurityworkshop
 .com
GEO:50.453518;30.516066
X-APPLE-STRUCTURED-LOCATION;VALUE=URI;X-ADDRESS=Kyiv\, Ukraine;X-APPLE-RADI
 US=72;X-TITLE=Kyiv:50.453518;30.516066
END:VEVENT
END:VCALENDAR