BEGIN:VCALENDAR
VERSION:2.0
PRODID:Events Booking
BEGIN:VEVENT
UID:69ea487c4c08e
SUMMARY:HMF PM
DESCRIPTION:
DTSTART:20251118T050000Z
DTEND:20251118T100000Z
DTSTAMP:20251118T050900Z
ORGANIZER;CN=Cisco Security Workshops:MAILTO:no-reply@ciscosecurityworkshop
 .com
END:VEVENT
END:VCALENDAR