BEGIN:VCALENDAR
VERSION:2.0
PRODID:Events Booking
BEGIN:VEVENT
UID:69ea52c180a15
SUMMARY:HMF Project Meteor - Gonçalo
DESCRIPTION:
DTSTART:20260318T080000Z
DTEND:20260318T160000Z
DTSTAMP:20260317T154535Z
ORGANIZER;CN=Cisco Security Workshops:MAILTO:no-reply@ciscosecurityworkshop
 .com
END:VEVENT
END:VCALENDAR