BEGIN:VCALENDAR
VERSION:2.0
PRODID:Events Booking
BEGIN:VEVENT
UID:69ea4c5938f8b
SUMMARY:HMF Project Meteor Lab
DESCRIPTION:
DTSTART:20260303T080000Z
DTEND:20260303T220000Z
DTSTAMP:20260302T212334Z
ORGANIZER;CN=Cisco Security Workshops:MAILTO:no-reply@ciscosecurityworkshop
 .com
END:VEVENT
END:VCALENDAR