BEGIN:VCALENDAR
VERSION:2.0
PRODID:Events Booking
BEGIN:VEVENT
UID:69e9702e553de
SUMMARY:HMF Projekt Meteor Testdrive
DESCRIPTION:Welcome to the Hybrid-Mesh Firewall lab.
 Everything you need 
 to succeed with this workshop is in this guide\, dive in and good luck!!
LOCATION:Germany
DTSTART:20251128T090000Z
DTEND:20251127T190000Z
DTSTAMP:20251126T155814Z
ORGANIZER;CN=Cisco Security Workshops:MAILTO:no-reply@ciscosecurityworkshop
 .com
GEO:53.550341;10.000654
X-APPLE-STRUCTURED-LOCATION;VALUE=URI;X-ADDRESS=Germany;X-APPLE-RADIUS=72;X
 -TITLE=Hamburg:53.550341;10.000654
END:VEVENT
END:VCALENDAR