BEGIN:VCALENDAR
VERSION:2.0
PRODID:Events Booking
BEGIN:VEVENT
UID:69ea47a759f85
SUMMARY:HMF : PseudoCo Project Meteor TTT with Inflow
DESCRIPTION:
DTSTART:20260407T043000Z
DTEND:20260407T083000Z
DTSTAMP:20260407T034340Z
ORGANIZER;CN=Cisco Security Workshops:MAILTO:no-reply@ciscosecurityworkshop
 .com
END:VEVENT
END:VCALENDAR