BEGIN:VCALENDAR
VERSION:2.0
PRODID:Events Booking
BEGIN:VEVENT
UID:69e7ec801f54c
SUMMARY:HMF_PVT_21May25
DESCRIPTION:
LOCATION:2300 President George Bush Highway\, Richardson\, 75082 Texas\, Un
 ited States
DTSTART:20250521T080000Z
DTEND:20250521T200000Z
DTSTAMP:20250509T152314Z
ORGANIZER;CN=Cisco Security Workshops:MAILTO:no-reply@ciscosecurityworkshop
 .com
GEO:32.999775;-96.680416
X-APPLE-STRUCTURED-LOCATION;VALUE=URI;X-ADDRESS=2300 President George Bush 
 Highway\, Richardson\, 75082 Texas\, United States;X-APPLE-RADIUS=72;X-TIT
 LE=Cisco Office Richardson:32.999775;-96.680416
END:VEVENT
END:VCALENDAR