BEGIN:VCALENDAR
VERSION:2.0
PRODID:Events Booking
BEGIN:VEVENT
UID:69ea058c80fd0
SUMMARY:HMF - Seed Promo
DESCRIPTION:
DTSTART:20260504T120000Z
DTEND:20260505T010000Z
DTSTAMP:20260422T173910Z
ORGANIZER;CN=Cisco Security Workshops:MAILTO:no-reply@ciscosecurityworkshop
 .com
END:VEVENT
END:VCALENDAR