BEGIN:VCALENDAR
VERSION:2.0
PRODID:Events Booking
BEGIN:VEVENT
UID:69e820e735ba1
SUMMARY:HMF_SJ_Jun5
DESCRIPTION:
 Hybrid Mesh Firewall workshop
 
  
 
 
 Experience a h
 ands-on workshop built for security professionals
 In the heat of a crisi
 s\, every keystroke counts\, and indecision could cost your organization m
 illions. What separates security pros from security liabilities? A plan 
 – and practice. Join us for this hands-on Cisco Hybrid Mesh firewall wor
 kshop to develop your skills and test your abilities. 
 Don’t miss you
 r chance to:  
 🎯 Develop your skills: Learn how to configure\, c
 reate policy and get familiar with Hybrid Mesh firewall. Build your expert
 ise with greater speed\, efficiency and confidence in our hands-on virtual
  lab. 
 🌐
 Whether you are an experienced cybersecurity professional
  or a beginner\, this workshop guarantees a mix of education\, excitement\
 , and engaging content. Seize the chance\, upskill\, and leave no alerts u
 nsolved. Secure your spot now and leave with a clear plan to take back to 
 your organization.  
 Note: ~ We recommend using a second monitor or 
 screen for this workshop.  ~ Please close down your applications and turn
  off your notifications before the workshop starts. ~ We understand your 
 time is valuable\; please plan for approximately 4 hours to complete the C
 isco Hybrid Mesh firewall workshop.   
 We look forward to seeing you t
 here! 
 
DTSTART:20250605T160000Z
DTEND:20250606T000000Z
DTSTAMP:20250422T154203Z
ORGANIZER;CN=Cisco Security Workshops:MAILTO:no-reply@ciscosecurityworkshop
 .com
END:VEVENT
END:VCALENDAR