BEGIN:VCALENDAR
VERSION:2.0
PRODID:Events Booking
BEGIN:VEVENT
UID:69e820461d1d0
SUMMARY:HMF_SJ_Jun5
DESCRIPTION:
 HyBrid Mesh Firewall workshop
 
  
 
 
 Experience a h
 ands-on workshop built for security professionals
 In the heat of a crisi
 s\, every keystroke counts\, and indecision could cost your organization m
 illions. What separates security pros from security liabilities? A plan 
 – and practice. Join us for this hands-on Cisco Hybrid Mesh firewall wor
 kshop to develop your skills and test your abilities. 
 Don’t miss you
 r chance to:  
 🎯 Develop your skills: Learn how to configure\, cr
 eate policy and get familiar with Hybrid Mesh firewall. Build your experti
 se with greater speed\, efficiency and confidence in our hands-on virtual 
 lab. 
 🌐
 Whether you are an experienced cybersecurity professional 
 or a beginner\, this workshop guarantees a mix of education\, excitement\,
  and engaging content. Seize the chance\, upskill\, and leave no alerts un
 detected. Secure your spot now and leave with a clear plan to take back to
  your organization.  
 Note: ~ We recommend using a second monitor or
  screen for this workshop.  ~ Please close down your applications and tur
 n off your notifications before the workshop starts. ~ We understand your
  time is valuable\; please plan for approximately 4 hours to complete the 
 Cisco Hybrid Mesh fireall workshop.   
 We look forward to seeing you t
 here! 
 
LOCATION:Cisco Systems Building 12\, 400\, East Tasman Drive\, Cisco System
 s\, North San Jose\, San Jose\, Santa Clara County\, California\, 95134\, 
 United States
DTSTART:20250605T090000Z
DTEND:20250605T170000Z
DTSTAMP:20250414T040541Z
ORGANIZER;CN=Cisco Security Workshops:MAILTO:no-reply@ciscosecurityworkshop
 .com
GEO:37.411585;-121.929145
X-APPLE-STRUCTURED-LOCATION;VALUE=URI;X-ADDRESS=Cisco Systems Building 12\,
  400\, East Tasman Drive\, Cisco Systems\, North San Jose\, San Jose\, San
 ta Clara County\, California\, 95134\, United States;X-APPLE-RADIUS=72;X-T
 ITLE=Cisco HQ:37.411585;-121.929145
END:VEVENT
END:VCALENDAR