BEGIN:VCALENDAR
VERSION:2.0
PRODID:Events Booking
BEGIN:VEVENT
UID:69e85c810ae9c
SUMMARY:HMF Test
DESCRIPTION:
LOCATION:Oslo\, Norway
DTSTART:20251003T000000Z
DTEND:20251003T135500Z
DTSTAMP:20251003T112125Z
ORGANIZER;CN=Cisco Security Workshops:MAILTO:no-reply@ciscosecurityworkshop
 .com
GEO:59.972397;10.775729
X-APPLE-STRUCTURED-LOCATION;VALUE=URI;X-ADDRESS=Oslo\, Norway;X-APPLE-RADIU
 S=72;X-TITLE=Cisco Office:59.972397;10.775729
END:VEVENT
END:VCALENDAR