BEGIN:VCALENDAR
VERSION:2.0
PRODID:Events Booking
BEGIN:VEVENT
UID:69e85c804f7a3
SUMMARY:HMF Test
DESCRIPTION:
LOCATION:Dubai
DTSTART:20251111T090000Z
DTEND:20251111T220000Z
DTSTAMP:20251111T180913Z
ORGANIZER;CN=Cisco Security Workshops:MAILTO:no-reply@ciscosecurityworkshop
 .com
GEO:9999.999999;9999.999999
X-APPLE-STRUCTURED-LOCATION;VALUE=URI;X-ADDRESS=Dubai;X-APPLE-RADIUS=72;X-T
 ITLE=UAE:9999.999999;9999.999999
END:VEVENT
END:VCALENDAR