BEGIN:VCALENDAR
VERSION:2.0
PRODID:Events Booking
BEGIN:VEVENT
UID:69ea487c3b7f4
SUMMARY:HMF Test
DESCRIPTION:asdcasdc
LOCATION:A004-024\, Al Safouh 2 Knowledge Village Dubai\, Dubai 500321 Unit
 ed Arab Emirates
DTSTART:20251117T100000Z
DTEND:20251117T230000Z
DTSTAMP:20251117T141725Z
ORGANIZER;CN=Cisco Security Workshops:MAILTO:no-reply@ciscosecurityworkshop
 .com
END:VEVENT
END:VCALENDAR