BEGIN:VCALENDAR
VERSION:2.0
PRODID:Events Booking
BEGIN:VEVENT
UID:69ea7ebb2f846
SUMMARY:HMF test
DESCRIPTION:
LOCATION:Haarlerbergweg 18
DTSTART:20260226T100000Z
DTEND:20260226T140000Z
DTSTAMP:20260226T114453Z
ORGANIZER;CN=Cisco Security Workshops:MAILTO:no-reply@ciscosecurityworkshop
 .com
END:VEVENT
END:VCALENDAR