BEGIN:VCALENDAR
VERSION:2.0
PRODID:Events Booking
BEGIN:VEVENT
UID:69e81f019512b
SUMMARY:HMF Test
DESCRIPTION:
LOCATION:Haarlerbergpark Haarlerbergweg 17 -19 Amsterdam\, North Holland 11
 01 CH Netherlands
DTSTART:20250630T120000Z
DTEND:20250630T170000Z
DTSTAMP:20250630T120937Z
ORGANIZER;CN=Cisco Security Workshops:MAILTO:no-reply@ciscosecurityworkshop
 .com
END:VEVENT
END:VCALENDAR