BEGIN:VCALENDAR
VERSION:2.0
PRODID:Events Booking
BEGIN:VEVENT
UID:69e85c81d3b8c
SUMMARY:HMF Test2
DESCRIPTION:
LOCATION:MGR Film City Road\,Kanagam\,Tharamani\, Chennai\, 600113 Tamil Na
 du\, India
DTSTART:20251001T230000Z
DTEND:20251001T201500Z
DTSTAMP:20251003T114557Z
ORGANIZER;CN=Cisco Security Workshops:MAILTO:no-reply@ciscosecurityworkshop
 .com
GEO:12.991942;80.247021
X-APPLE-STRUCTURED-LOCATION;VALUE=URI;X-ADDRESS=MGR Film City Road\,Kanagam
 \,Tharamani\, Chennai\, 600113 Tamil Nadu\, India;X-APPLE-RADIUS=72;X-TITL
 E=Cisco Systems :12.991942;80.247021
END:VEVENT
END:VCALENDAR