BEGIN:VCALENDAR
VERSION:2.0
PRODID:Events Booking
BEGIN:VEVENT
UID:69e822ca93baf
SUMMARY:HMF Vienna Dry Run
DESCRIPTION:
LOCATION:Tegetthoffstraße\, Vienna\, 1010\, Austria
DTSTART:20250923T060000Z
DTEND:20250923T180000Z
DTSTAMP:20250908T060337Z
ORGANIZER;CN=Cisco Security Workshops:MAILTO:no-reply@ciscosecurityworkshop
 .com
GEO:48.205282;16.370119
X-APPLE-STRUCTURED-LOCATION;VALUE=URI;X-ADDRESS=Tegetthoffstraße\, Vienna\
 , 1010\, Austria;X-APPLE-RADIUS=72;X-TITLE=Cisco Office Vienna:48.205282;1
 6.370119
END:VEVENT
END:VCALENDAR