BEGIN:VCALENDAR
VERSION:2.0
PRODID:Events Booking
BEGIN:VEVENT
UID:69ea0dca31832
SUMMARY:HMF workshop 17th Dec
DESCRIPTION:
LOCATION:Saudi Arabia
DTSTART:20251217T100000Z
DTEND:20251217T190000Z
DTSTAMP:20251117T145307Z
ORGANIZER;CN=Cisco Security Workshops:MAILTO:no-reply@ciscosecurityworkshop
 .com
GEO:25.624262;42.352833
X-APPLE-STRUCTURED-LOCATION;VALUE=URI;X-ADDRESS=Saudi Arabia;X-APPLE-RADIUS
 =72;X-TITLE=KSA:25.624262;42.352833
END:VEVENT
END:VCALENDAR