BEGIN:VCALENDAR
VERSION:2.0
PRODID:Events Booking
BEGIN:VEVENT
UID:69ea4a621d052
SUMMARY:HMF Workshop CDW Irvine Nov 19 2025
DESCRIPTION:The Hybrid Mesh Firewall Design Workshop is a comprehensive int
 eractive session designed to help organizations understand and leverage Ci
 sco’s Hybrid Mesh Firewall capabilities. This workshop combines a target
 ed presentation\, hands-on collaboration\, and strategic planning to help 
 customers modernize their firewall architecture\, enhance security visibil
 ity\, and optimize operational efficiency.
LOCATION:2020 Main St. Suite 760. Irvine\, CA 92614.
DTSTART:20251119T160000Z
DTEND:20251120T070000Z
DTSTAMP:20251119T150542Z
ORGANIZER;CN=Cisco Security Workshops:MAILTO:no-reply@ciscosecurityworkshop
 .com
END:VEVENT
END:VCALENDAR