BEGIN:VCALENDAR
VERSION:2.0
PRODID:Events Booking
BEGIN:VEVENT
UID:69e85ca812e4c
SUMMARY:HMF Workshop 09DEC Mauritius
DESCRIPTION:
DTSTART:20251210T050000Z
DTEND:20251209T130000Z
DTSTAMP:20251022T130227Z
ORGANIZER;CN=Cisco Security Workshops:MAILTO:no-reply@ciscosecurityworkshop
 .com
END:VEVENT
END:VCALENDAR