BEGIN:VCALENDAR
VERSION:2.0
PRODID:Events Booking
BEGIN:VEVENT
UID:69ea484286b1e
SUMMARY:HMF Workshop Test
DESCRIPTION:
LOCATION:Kyiv\, Ukraine
DTSTART:20251104T050000Z
DTEND:20251104T160000Z
DTSTAMP:20251103T084253Z
ORGANIZER;CN=Cisco Security Workshops:MAILTO:no-reply@ciscosecurityworkshop
 .com
GEO:50.453518;30.516066
X-APPLE-STRUCTURED-LOCATION;VALUE=URI;X-ADDRESS=Kyiv\, Ukraine;X-APPLE-RADI
 US=72;X-TITLE=Kyiv:50.453518;30.516066
END:VEVENT
END:VCALENDAR