BEGIN:VCALENDAR
VERSION:2.0
PRODID:Events Booking
BEGIN:VEVENT
UID:69ea484218787
SUMMARY:HMF
DESCRIPTION:
LOCATION:Virtual
DTSTART:20251031T130000Z
DTEND:20251031T150000Z
DTSTAMP:20251029T141438Z
ORGANIZER;CN=Cisco Security Workshops:MAILTO:no-reply@ciscosecurityworkshop
 .com
GEO:25;-80.226529
X-APPLE-STRUCTURED-LOCATION;VALUE=URI;X-ADDRESS=Virtual;X-APPLE-RADIUS=72;X
 -TITLE=Virtual:25;-80.226529
END:VEVENT
END:VCALENDAR