BEGIN:VCALENDAR
VERSION:2.0
PRODID:Events Booking
BEGIN:VEVENT
UID:69ea7d8961973
SUMMARY:HMFW workshop - Ingram Micro HK
DESCRIPTION:
LOCATION:KT\, HK
DTSTART:20260326T030000Z
DTEND:20260326T100000Z
DTSTAMP:20260323T094615Z
ORGANIZER;CN=Cisco Security Workshops:MAILTO:no-reply@ciscosecurityworkshop
 .com
END:VEVENT
END:VCALENDAR